BEGIN:VCALENDAR
VERSION:2.0
PRODID:-//Idaho INBRE - ECPv6.15.20//NONSGML v1.0//EN
CALSCALE:GREGORIAN
METHOD:PUBLISH
X-WR-CALNAME:Idaho INBRE
X-ORIGINAL-URL:https://inbre.uidaho.edu
X-WR-CALDESC:Events for Idaho INBRE
REFRESH-INTERVAL;VALUE=DURATION:PT1H
X-Robots-Tag:noindex
X-PUBLISHED-TTL:PT1H
BEGIN:VTIMEZONE
TZID:America/Los_Angeles
BEGIN:DAYLIGHT
TZOFFSETFROM:-0800
TZOFFSETTO:-0700
TZNAME:PDT
DTSTART:20240310T100000
END:DAYLIGHT
BEGIN:STANDARD
TZOFFSETFROM:-0700
TZOFFSETTO:-0800
TZNAME:PST
DTSTART:20241103T090000
END:STANDARD
BEGIN:DAYLIGHT
TZOFFSETFROM:-0800
TZOFFSETTO:-0700
TZNAME:PDT
DTSTART:20250309T100000
END:DAYLIGHT
BEGIN:STANDARD
TZOFFSETFROM:-0700
TZOFFSETTO:-0800
TZNAME:PST
DTSTART:20251102T090000
END:STANDARD
BEGIN:DAYLIGHT
TZOFFSETFROM:-0800
TZOFFSETTO:-0700
TZNAME:PDT
DTSTART:20260308T100000
END:DAYLIGHT
BEGIN:STANDARD
TZOFFSETFROM:-0700
TZOFFSETTO:-0800
TZNAME:PST
DTSTART:20261101T090000
END:STANDARD
END:VTIMEZONE
BEGIN:VEVENT
DTSTART;VALUE=DATE:20250115
DTEND;VALUE=DATE:20250116
DTSTAMP:20260422T052825
CREATED:20250107T191128Z
LAST-MODIFIED:20250107T191128Z
UID:5427-1736899200-1736985599@inbre.uidaho.edu
SUMMARY:DEADLINE: Course-based Undergraduate Research Education (CURE) Funding Opportunity
DESCRIPTION:Loading...\n						\n					\n					\n						\n							\n							Taking too long?\n						\n						\n								 Reload document							\n							|\n							\n								 Open in new tab							\n					\n				\n			\n		Download [149.89 KB]
URL:https://inbre.uidaho.edu/event/deadline-course-based-undergraduate-research-education-cure-funding-opportunity/
END:VEVENT
BEGIN:VEVENT
DTSTART;TZID=America/Los_Angeles:20250121T120000
DTEND;TZID=America/Los_Angeles:20250121T133000
DTSTAMP:20260422T052825
CREATED:20250107T193759Z
LAST-MODIFIED:20250107T193929Z
UID:5438-1737460800-1737466200@inbre.uidaho.edu
SUMMARY:NIH SuRE R16 Program Overview Webinar
DESCRIPTION:WEBINAR\nNIH SuRE R16 Program Overview \nSupport for Research Excellence (SuRE)\nTuesday\, Jan 21\, 3pm Eastern\n60-min plus live Q&A \n  \nREGISTER HERE
URL:https://inbre.uidaho.edu/event/nih-sure-r16-program-overview-webinar/
END:VEVENT
END:VCALENDAR