BEGIN:VCALENDAR
VERSION:2.0
PRODID:-//Idaho INBRE - ECPv6.15.20//NONSGML v1.0//EN
CALSCALE:GREGORIAN
METHOD:PUBLISH
X-WR-CALNAME:Idaho INBRE
X-ORIGINAL-URL:https://inbre.uidaho.edu
X-WR-CALDESC:Events for Idaho INBRE
REFRESH-INTERVAL;VALUE=DURATION:PT1H
X-Robots-Tag:noindex
X-PUBLISHED-TTL:PT1H
BEGIN:VTIMEZONE
TZID:America/Los_Angeles
BEGIN:DAYLIGHT
TZOFFSETFROM:-0800
TZOFFSETTO:-0700
TZNAME:PDT
DTSTART:20240310T100000
END:DAYLIGHT
BEGIN:STANDARD
TZOFFSETFROM:-0700
TZOFFSETTO:-0800
TZNAME:PST
DTSTART:20241103T090000
END:STANDARD
BEGIN:DAYLIGHT
TZOFFSETFROM:-0800
TZOFFSETTO:-0700
TZNAME:PDT
DTSTART:20250309T100000
END:DAYLIGHT
BEGIN:STANDARD
TZOFFSETFROM:-0700
TZOFFSETTO:-0800
TZNAME:PST
DTSTART:20251102T090000
END:STANDARD
BEGIN:DAYLIGHT
TZOFFSETFROM:-0800
TZOFFSETTO:-0700
TZNAME:PDT
DTSTART:20260308T100000
END:DAYLIGHT
BEGIN:STANDARD
TZOFFSETFROM:-0700
TZOFFSETTO:-0800
TZNAME:PST
DTSTART:20261101T090000
END:STANDARD
END:VTIMEZONE
BEGIN:VEVENT
DTSTART;VALUE=DATE:20250418
DTEND;VALUE=DATE:20250419
DTSTAMP:20260421T174800
CREATED:20250107T195007Z
LAST-MODIFIED:20250107T195007Z
UID:5441-1744934400-1745020799@inbre.uidaho.edu
SUMMARY:INBRE Fellows - Student Research Plans due (UI)
DESCRIPTION:Deadline for Preceptor’s to submit Fellow’s Student Research Plans (at University of Idaho) to ashley@uidaho.edu.\nSee form below. \nDownload [40.77 KB]
URL:https://inbre.uidaho.edu/event/inbre-fellows-student-research-plans-due-ui/
END:VEVENT
END:VCALENDAR